BEGIN:VCALENDAR
VERSION:2.0
PRODID:-//wp-events-plugin.com//7.2.3.1//EN
TZID:Europe/Berlin
X-WR-TIMEZONE:Europe/Berlin
BEGIN:VEVENT
UID:79@schlickteufel.de
DTSTART;TZID=Europe/Berlin;VALUE=DATE:20260321
DTEND;TZID=Europe/Berlin;VALUE=DATE:20260323
DTSTAMP:20260316T210546Z
URL:https://www.schlickteufel.de/termine/unterwasserhockey-liga/
SUMMARY:Unterwasserhockey Liga
DESCRIPTION:Am 21.+22.03. findet im Badepark Elmshorn (Traglufthalle) die
 Rückrunde der Deutschen Liga im Unterwasserhockey statt.\nAm Samstag den
 21.03. wird von 9:00 Uhr bis 19:00 Uhr gespielt. Am Sonntag geht es ab 9:00
 Uhr weiter und endet um 14:00 Uhr.\n\nInsgesamt 10 Teams aus ganz
 Deutschland werden um die Deutsche Meisterschaft kämpfen. Am Ende des
 Spieltags wird der Deutsche Meister 2025/2026 gekürt.\n\nZuschauer sind
 Herzlich Willkommen und dürfen uns gerne besuchen. Bitte denkt an Bade-
 oder Sportkleidung\, da ihr sonst nicht in die Halle dürft. Auch aus dem
 Wasser heraus darf zugeguckt werden.\n\n
ATTACH;FMTTYPE=image/jpeg:https://www.schlickteufel.de/wp-content/uploads/
 2026/02/Plakat-Liga-2026-03-20.png
LOCATION:Badepark Elmshorn\, Zum Krückaupark\, Elmshorn\,
 Schleswig-Holstein\, 25337\, Deutschland
GEO:53.755978;9.674106400000028
X-APPLE-STRUCTURED-LOCATION;VALUE=URI;X-ADDRESS=Zum Krückaupark\,
 Elmshorn\, Schleswig-Holstein\, 25337\,
 Deutschland;X-APPLE-RADIUS=100;X-TITLE=Badepark
 Elmshorn:geo:53.755978,9.674106400000028
END:VEVENT
BEGIN:VTIMEZONE
TZID:Europe/Berlin
X-LIC-LOCATION:Europe/Berlin
BEGIN:STANDARD
DTSTART:20251026T020000
TZOFFSETFROM:+0200
TZOFFSETTO:+0100
TZNAME:CET
END:STANDARD
END:VTIMEZONE
END:VCALENDAR